Package: TPP2D Version: 1.23.0 Command: rm -rf TPP2D.buildbin-libdir && mkdir TPP2D.buildbin-libdir && /Users/biocbuild/BBS/utils/build-universal.sh TPP2D_1.23.0.tar.gz /Library/Frameworks/R.framework/Resources/bin/R TPP2D.buildbin-libdir StartedAt: 2025-02-09 22:33:46 -0500 (Sun, 09 Feb 2025) EndedAt: 2025-02-09 22:33:51 -0500 (Sun, 09 Feb 2025) EllapsedTime: 4.1 seconds RetCode: 0 Status: OK PackageFile: TPP2D_1.23.0.tgz PackageFileSize: 1.891 MiB