Package: TPP2D Version: 1.23.0 Command: /Library/Frameworks/R.framework/Resources/bin/R CMD build --keep-empty-dirs --no-resave-data TPP2D StartedAt: 2025-02-04 17:49:59 -0500 (Tue, 04 Feb 2025) EndedAt: 2025-02-04 17:50:11 -0500 (Tue, 04 Feb 2025) EllapsedTime: 12.1 seconds RetCode: 0 Status: OK PackageFile: TPP2D_1.23.0.tar.gz PackageFileSize: 2.3 MiB