Package: TPP2D Version: 1.23.0 Command: /Library/Frameworks/R.framework/Resources/bin/R CMD check --install=check:TPP2D.install-out.txt --library=/Library/Frameworks/R.framework/Resources/library --no-vignettes --timings TPP2D_1.23.0.tar.gz StartedAt: 2025-02-09 21:47:09 -0500 (Sun, 09 Feb 2025) EndedAt: 2025-02-09 21:47:50 -0500 (Sun, 09 Feb 2025) EllapsedTime: 40.5 seconds RetCode: 0 Status: OK CheckDir: TPP2D.Rcheck Warnings: 0