Package: TPP2D Version: 1.23.0 Command: /home/biocbuild/R/R/bin/R CMD check --install=check:TPP2D.install-out.txt --library=/home/biocbuild/R/R/site-library --no-vignettes --timings TPP2D_1.23.0.tar.gz StartedAt: 2025-01-28 16:13:38 -0000 (Tue, 28 Jan 2025) EndedAt: 2025-01-28 16:16:51 -0000 (Tue, 28 Jan 2025) EllapsedTime: 192.2 seconds RetCode: 0 Status: OK CheckDir: TPP2D.Rcheck Warnings: 0