Package: TPP2D Version: 1.23.0 Command: rm -rf TPP2D.buildbin-libdir && mkdir TPP2D.buildbin-libdir && /Users/biocbuild/BBS/utils/build-universal.sh TPP2D_1.23.0.tar.gz /Library/Frameworks/R.framework/Resources/bin/R TPP2D.buildbin-libdir StartedAt: 2025-02-05 01:06:44 -0500 (Wed, 05 Feb 2025) EndedAt: 2025-02-05 01:06:57 -0500 (Wed, 05 Feb 2025) EllapsedTime: 12.9 seconds RetCode: 0 Status: OK PackageFile: TPP2D_1.23.0.tgz PackageFileSize: 1.889 MiB