Package: TPP2D Version: 1.23.0 Command: /Library/Frameworks/R.framework/Resources/bin/R CMD build --keep-empty-dirs --no-resave-data TPP2D StartedAt: 2025-02-09 18:44:56 -0500 (Sun, 09 Feb 2025) EndedAt: 2025-02-09 18:45:33 -0500 (Sun, 09 Feb 2025) EllapsedTime: 37.7 seconds RetCode: 0 Status: OK PackageFile: TPP2D_1.23.0.tar.gz PackageFileSize: 2.297 MiB