Package: TPP2D Version: 1.23.0 Command: /Library/Frameworks/R.framework/Resources/bin/R CMD check --install=check:TPP2D.install-out.txt --library=/Library/Frameworks/R.framework/Resources/library --no-vignettes --timings TPP2D_1.23.0.tar.gz StartedAt: 2025-02-04 23:50:03 -0500 (Tue, 04 Feb 2025) EndedAt: 2025-02-04 23:51:58 -0500 (Tue, 04 Feb 2025) EllapsedTime: 114.9 seconds RetCode: 0 Status: OK CheckDir: TPP2D.Rcheck Warnings: 0