Package: TPP2D Version: 1.23.0 Command: /home/biocbuild/bbs-3.21-bioc/R/bin/R CMD build --keep-empty-dirs --no-resave-data TPP2D StartedAt: 2025-02-04 19:35:26 -0500 (Tue, 04 Feb 2025) EndedAt: 2025-02-04 19:35:56 -0500 (Tue, 04 Feb 2025) EllapsedTime: 30.0 seconds RetCode: 0 Status: OK PackageFile: TPP2D_1.23.0.tar.gz PackageFileSize: 2.285 MiB