Package: TPP2D Version: 1.23.0 Command: /home/biocbuild/bbs-3.21-bioc/R/bin/R CMD check --install=check:TPP2D.install-out.txt --library=/home/biocbuild/bbs-3.21-bioc/R/site-library --timings TPP2D_1.23.0.tar.gz StartedAt: 2025-02-05 03:33:24 -0500 (Wed, 05 Feb 2025) EndedAt: 2025-02-05 03:35:26 -0500 (Wed, 05 Feb 2025) EllapsedTime: 122.2 seconds RetCode: 0 Status: OK CheckDir: TPP2D.Rcheck Warnings: 0