Package: TPP2D Version: 1.23.0 Command: rm -rf TPP2D.buildbin-libdir && mkdir TPP2D.buildbin-libdir && E:\biocbuild\bbs-3.21-bioc\R\bin\R.exe CMD INSTALL --build --library=TPP2D.buildbin-libdir TPP2D_1.23.0.tar.gz StartedAt: 2025-02-10 08:53:26 -0500 (Mon, 10 Feb 2025) EndedAt: 2025-02-10 08:53:56 -0500 (Mon, 10 Feb 2025) EllapsedTime: 29.6 seconds RetCode: 0 Status: OK PackageFile: TPP2D_1.23.0.zip PackageFileSize: 1.728 MiB