Package: TPP2D Version: 1.23.0 Command: chmod a+r TPP2D -R && E:\biocbuild\bbs-3.21-bioc\R\bin\R.exe CMD build --keep-empty-dirs --no-resave-data TPP2D StartedAt: 2025-02-09 22:07:59 -0500 (Sun, 09 Feb 2025) EndedAt: 2025-02-09 22:08:54 -0500 (Sun, 09 Feb 2025) EllapsedTime: 54.7 seconds RetCode: 0 Status: OK PackageFile: TPP2D_1.23.0.tar.gz PackageFileSize: 2.136 MiB