Package: TPP2D Version: 1.23.0 Command: E:\biocbuild\bbs-3.21-bioc\R\bin\R.exe CMD check --no-multiarch --install=check:TPP2D.install-out.txt --library=E:\biocbuild\bbs-3.21-bioc\R\library --no-vignettes --timings TPP2D_1.23.0.tar.gz StartedAt: 2025-02-13 06:28:25 -0500 (Thu, 13 Feb 2025) EndedAt: 2025-02-13 06:30:37 -0500 (Thu, 13 Feb 2025) EllapsedTime: 131.9 seconds RetCode: 0 Status: OK CheckDir: TPP2D.Rcheck Warnings: 0