Package: TRONCO Version: 2.39.0 Command: rm -rf TRONCO.buildbin-libdir && mkdir TRONCO.buildbin-libdir && /Users/biocbuild/BBS/utils/build-universal.sh TRONCO_2.39.0.tar.gz /Library/Frameworks/R.framework/Resources/bin/R TRONCO.buildbin-libdir StartedAt: 2025-02-03 23:09:52 -0500 (Mon, 03 Feb 2025) EndedAt: 2025-02-03 23:09:58 -0500 (Mon, 03 Feb 2025) EllapsedTime: 6.2 seconds RetCode: 0 Status: OK PackageFile: TRONCO_2.39.0.tgz PackageFileSize: 4.859 MiB