Package: TRONCO Version: 2.39.0 Command: /Library/Frameworks/R.framework/Resources/bin/R CMD check --install=check:TRONCO.install-out.txt --library=/Library/Frameworks/R.framework/Resources/library --no-vignettes --timings TRONCO_2.39.0.tar.gz StartedAt: 2025-02-09 21:51:16 -0500 (Sun, 09 Feb 2025) EndedAt: 2025-02-09 21:52:22 -0500 (Sun, 09 Feb 2025) EllapsedTime: 65.8 seconds RetCode: 0 Status: OK CheckDir: TRONCO.Rcheck Warnings: 0