Package: TRONCO Version: 2.39.0 Command: /Library/Frameworks/R.framework/Resources/bin/R CMD INSTALL TRONCO StartedAt: 2025-02-09 15:18:52 -0500 (Sun, 09 Feb 2025) EndedAt: 2025-02-09 15:18:56 -0500 (Sun, 09 Feb 2025) EllapsedTime: 4.1 seconds RetCode: 0 Status: OK