Package: TRONCO Version: 2.39.0 Command: /Library/Frameworks/R.framework/Resources/bin/R CMD build --keep-empty-dirs --no-resave-data TRONCO StartedAt: 2025-02-09 18:46:58 -0500 (Sun, 09 Feb 2025) EndedAt: 2025-02-09 18:48:18 -0500 (Sun, 09 Feb 2025) EllapsedTime: 80.2 seconds RetCode: 0 Status: OK PackageFile: TRONCO_2.39.0.tar.gz PackageFileSize: 4.347 MiB