Package: TRONCO Version: 2.39.0 Command: /Library/Frameworks/R.framework/Resources/bin/R CMD check --install=check:TRONCO.install-out.txt --library=/Library/Frameworks/R.framework/Resources/library --no-vignettes --timings TRONCO_2.39.0.tar.gz StartedAt: 2025-02-03 23:56:15 -0500 (Mon, 03 Feb 2025) EndedAt: 2025-02-03 23:59:56 -0500 (Mon, 03 Feb 2025) EllapsedTime: 220.8 seconds RetCode: 0 Status: OK CheckDir: TRONCO.Rcheck Warnings: 0