Package: TRONCO Version: 2.39.0 Command: /home/biocbuild/bbs-3.21-bioc/R/bin/R CMD build --keep-empty-dirs --no-resave-data TRONCO StartedAt: 2025-02-03 19:48:59 -0500 (Mon, 03 Feb 2025) EndedAt: 2025-02-03 19:49:59 -0500 (Mon, 03 Feb 2025) EllapsedTime: 60.1 seconds RetCode: 0 Status: OK PackageFile: TRONCO_2.39.0.tar.gz PackageFileSize: 4.247 MiB