Package: TRONCO Version: 2.39.0 Command: /home/biocbuild/bbs-3.21-bioc/R/bin/R CMD check --install=check:TRONCO.install-out.txt --library=/home/biocbuild/bbs-3.21-bioc/R/site-library --timings TRONCO_2.39.0.tar.gz StartedAt: 2025-02-10 03:34:26 -0500 (Mon, 10 Feb 2025) EndedAt: 2025-02-10 03:38:16 -0500 (Mon, 10 Feb 2025) EllapsedTime: 230.4 seconds RetCode: 0 Status: OK CheckDir: TRONCO.Rcheck Warnings: 0