Package: TRONCO Version: 2.39.0 Command: rm -rf TRONCO.buildbin-libdir && mkdir TRONCO.buildbin-libdir && E:\biocbuild\bbs-3.21-bioc\R\bin\R.exe CMD INSTALL --build --library=TRONCO.buildbin-libdir TRONCO_2.39.0.tar.gz StartedAt: 2025-02-04 09:07:58 -0500 (Tue, 04 Feb 2025) EndedAt: 2025-02-04 09:09:30 -0500 (Tue, 04 Feb 2025) EllapsedTime: 92.0 seconds RetCode: 0 Status: OK PackageFile: TRONCO_2.39.0.zip PackageFileSize: 3.256 MiB