Package: TRONCO Version: 2.39.0 Command: chmod a+r TRONCO -R && E:\biocbuild\bbs-3.21-bioc\R\bin\R.exe CMD build --keep-empty-dirs --no-resave-data TRONCO StartedAt: 2025-02-09 22:11:50 -0500 (Sun, 09 Feb 2025) EndedAt: 2025-02-09 22:14:00 -0500 (Sun, 09 Feb 2025) EllapsedTime: 129.2 seconds RetCode: 0 Status: OK PackageFile: TRONCO_2.39.0.tar.gz PackageFileSize: 2.742 MiB