Package: TRONCO Version: 2.39.0 Command: E:\biocbuild\bbs-3.21-bioc\R\bin\R.exe CMD check --no-multiarch --install=check:TRONCO.install-out.txt --library=E:\biocbuild\bbs-3.21-bioc\R\library --no-vignettes --timings TRONCO_2.39.0.tar.gz StartedAt: 2025-02-04 06:49:40 -0500 (Tue, 04 Feb 2025) EndedAt: 2025-02-04 06:53:31 -0500 (Tue, 04 Feb 2025) EllapsedTime: 231.4 seconds RetCode: 0 Status: OK CheckDir: TRONCO.Rcheck Warnings: 0