Package: TRONCO Version: 2.39.0 Command: E:\biocbuild\bbs-3.21-bioc\R\bin\R.exe CMD INSTALL TRONCO StartedAt: 2025-02-09 15:54:02 -0500 (Sun, 09 Feb 2025) EndedAt: 2025-02-09 15:54:56 -0500 (Sun, 09 Feb 2025) EllapsedTime: 54.1 seconds RetCode: 0 Status: OK