Package: TSCAN Version: 1.45.0 Command: /Library/Frameworks/R.framework/Resources/bin/R CMD INSTALL TSCAN StartedAt: 2025-02-04 15:15:42 -0500 (Tue, 04 Feb 2025) EndedAt: 2025-02-04 15:15:53 -0500 (Tue, 04 Feb 2025) EllapsedTime: 10.9 seconds RetCode: 0 Status: OK