Package: TSCAN Version: 1.45.0 Command: /home/biocbuild/R/R/bin/R CMD build --keep-empty-dirs --no-resave-data TSCAN StartedAt: 2025-01-28 03:02:56 -0000 (Tue, 28 Jan 2025) EndedAt: 2025-01-28 03:03:55 -0000 (Tue, 28 Jan 2025) EllapsedTime: 59.0 seconds RetCode: 0 Status: OK PackageFile: TSCAN_1.45.0.tar.gz PackageFileSize: 2.764 MiB