Package: TSCAN Version: 1.45.0 Command: /home/biocbuild/R/R/bin/R CMD check --install=check:TSCAN.install-out.txt --library=/home/biocbuild/R/R/site-library --no-vignettes --timings TSCAN_1.45.0.tar.gz StartedAt: 2025-01-27 13:42:37 -0000 (Mon, 27 Jan 2025) EndedAt: 2025-01-27 13:48:24 -0000 (Mon, 27 Jan 2025) EllapsedTime: 346.8 seconds RetCode: 0 Status: OK CheckDir: TSCAN.Rcheck Warnings: 0