Package: TSCAN Version: 1.45.0 Command: /Library/Frameworks/R.framework/Resources/bin/R CMD build --keep-empty-dirs --no-resave-data TSCAN StartedAt: 2025-02-03 18:42:02 -0500 (Mon, 03 Feb 2025) EndedAt: 2025-02-03 18:42:51 -0500 (Mon, 03 Feb 2025) EllapsedTime: 49.3 seconds RetCode: 0 Status: OK PackageFile: TSCAN_1.45.0.tar.gz PackageFileSize: 2.677 MiB