Package: TSCAN Version: 1.45.0 Command: /Library/Frameworks/R.framework/Resources/bin/R CMD check --install=check:TSCAN.install-out.txt --library=/Library/Frameworks/R.framework/Resources/library --no-vignettes --timings TSCAN_1.45.0.tar.gz StartedAt: 2025-02-10 00:15:47 -0500 (Mon, 10 Feb 2025) EndedAt: 2025-02-10 00:19:58 -0500 (Mon, 10 Feb 2025) EllapsedTime: 250.9 seconds RetCode: 0 Status: OK CheckDir: TSCAN.Rcheck Warnings: 0