Package: TSCAN Version: 1.45.0 Command: /Library/Frameworks/R.framework/Resources/bin/R CMD INSTALL TSCAN StartedAt: 2025-02-03 15:30:00 -0500 (Mon, 03 Feb 2025) EndedAt: 2025-02-03 15:30:35 -0500 (Mon, 03 Feb 2025) EllapsedTime: 35.3 seconds RetCode: 0 Status: OK