Package: TSCAN Version: 1.45.0 Command: /home/biocbuild/bbs-3.21-bioc/R/bin/R CMD build --keep-empty-dirs --no-resave-data TSCAN StartedAt: 2025-02-03 19:49:07 -0500 (Mon, 03 Feb 2025) EndedAt: 2025-02-03 19:49:50 -0500 (Mon, 03 Feb 2025) EllapsedTime: 43.1 seconds RetCode: 0 Status: OK PackageFile: TSCAN_1.45.0.tar.gz PackageFileSize: 2.677 MiB