Package: TSCAN Version: 1.45.0 Command: /home/biocbuild/bbs-3.21-bioc/R/bin/R CMD INSTALL TSCAN StartedAt: 2025-02-09 15:37:30 -0500 (Sun, 09 Feb 2025) EndedAt: 2025-02-09 15:37:57 -0500 (Sun, 09 Feb 2025) EllapsedTime: 26.8 seconds RetCode: 0 Status: OK