Package: TSCAN Version: 1.45.0 Command: rm -rf TSCAN.buildbin-libdir && mkdir TSCAN.buildbin-libdir && E:\biocbuild\bbs-3.21-bioc\R\bin\R.exe CMD INSTALL --build --library=TSCAN.buildbin-libdir TSCAN_1.45.0.tar.gz StartedAt: 2025-02-04 09:08:03 -0500 (Tue, 04 Feb 2025) EndedAt: 2025-02-04 09:08:53 -0500 (Tue, 04 Feb 2025) EllapsedTime: 49.5 seconds RetCode: 0 Status: OK PackageFile: TSCAN_1.45.0.zip PackageFileSize: 2.765 MiB