Package: TSCAN Version: 1.45.0 Command: chmod a+r TSCAN -R && E:\biocbuild\bbs-3.21-bioc\R\bin\R.exe CMD build --keep-empty-dirs --no-resave-data TSCAN StartedAt: 2025-02-03 22:24:50 -0500 (Mon, 03 Feb 2025) EndedAt: 2025-02-03 22:25:49 -0500 (Mon, 03 Feb 2025) EllapsedTime: 58.4 seconds RetCode: 0 Status: OK PackageFile: TSCAN_1.45.0.tar.gz PackageFileSize: 2.678 MiB