Package: TSCAN Version: 1.45.0 Command: E:\biocbuild\bbs-3.21-bioc\R\bin\R.exe CMD check --no-multiarch --install=check:TSCAN.install-out.txt --library=E:\biocbuild\bbs-3.21-bioc\R\library --no-vignettes --timings TSCAN_1.45.0.tar.gz StartedAt: 2025-02-04 06:50:34 -0500 (Tue, 04 Feb 2025) EndedAt: 2025-02-04 06:54:53 -0500 (Tue, 04 Feb 2025) EllapsedTime: 259.0 seconds RetCode: 0 Status: OK CheckDir: TSCAN.Rcheck Warnings: 0