Package: TTMap Version: 1.29.0 Command: rm -rf TTMap.buildbin-libdir && mkdir TTMap.buildbin-libdir && /Users/biocbuild/BBS/utils/build-universal.sh TTMap_1.29.0.tar.gz /Library/Frameworks/R.framework/Resources/bin/R TTMap.buildbin-libdir StartedAt: 2025-02-05 22:39:06 -0500 (Wed, 05 Feb 2025) EndedAt: 2025-02-05 22:39:15 -0500 (Wed, 05 Feb 2025) EllapsedTime: 9.2 seconds RetCode: 0 Status: OK PackageFile: TTMap_1.29.0.tgz PackageFileSize: 1.392 MiB