Package: TTMap Version: 1.29.0 Command: /Library/Frameworks/R.framework/Resources/bin/R CMD build --keep-empty-dirs --no-resave-data TTMap StartedAt: 2025-02-05 17:53:53 -0500 (Wed, 05 Feb 2025) EndedAt: 2025-02-05 17:54:13 -0500 (Wed, 05 Feb 2025) EllapsedTime: 20.2 seconds RetCode: 0 Status: OK PackageFile: TTMap_1.29.0.tar.gz PackageFileSize: 1.61 MiB