Package: TTMap Version: 1.29.0 Command: /Library/Frameworks/R.framework/Resources/bin/R CMD INSTALL TTMap StartedAt: 2025-02-05 15:15:35 -0500 (Wed, 05 Feb 2025) EndedAt: 2025-02-05 15:15:43 -0500 (Wed, 05 Feb 2025) EllapsedTime: 8.7 seconds RetCode: 0 Status: OK