Package: TTMap Version: 1.29.0 Command: rm -rf TTMap.buildbin-libdir && mkdir TTMap.buildbin-libdir && E:\biocbuild\bbs-3.21-bioc\R\bin\R.exe CMD INSTALL --build --library=TTMap.buildbin-libdir TTMap_1.29.0.tar.gz StartedAt: 2025-02-06 09:15:38 -0500 (Thu, 06 Feb 2025) EndedAt: 2025-02-06 09:16:17 -0500 (Thu, 06 Feb 2025) EllapsedTime: 38.7 seconds RetCode: 0 Status: OK PackageFile: TTMap_1.29.0.zip PackageFileSize: 1.393 MiB