Package: TTMap Version: 1.29.0 Command: E:\biocbuild\bbs-3.21-bioc\R\bin\R.exe CMD INSTALL TTMap StartedAt: 2025-02-05 15:51:58 -0500 (Wed, 05 Feb 2025) EndedAt: 2025-02-05 15:52:29 -0500 (Wed, 05 Feb 2025) EllapsedTime: 31.1 seconds RetCode: 0 Status: OK