Package: TargetDecoy Version: 1.13.0 Command: /Library/Frameworks/R.framework/Resources/bin/R CMD INSTALL TargetDecoy StartedAt: 2025-02-09 15:28:05 -0500 (Sun, 09 Feb 2025) EndedAt: 2025-02-09 15:28:09 -0500 (Sun, 09 Feb 2025) EllapsedTime: 4.2 seconds RetCode: 0 Status: OK