Package: TargetDecoy Version: 1.13.0 Command: /Library/Frameworks/R.framework/Resources/bin/R CMD build --keep-empty-dirs --no-resave-data TargetDecoy StartedAt: 2025-02-09 18:41:20 -0500 (Sun, 09 Feb 2025) EndedAt: 2025-02-09 18:42:04 -0500 (Sun, 09 Feb 2025) EllapsedTime: 44.3 seconds RetCode: 0 Status: OK PackageFile: TargetDecoy_1.13.0.tar.gz PackageFileSize: 4.172 MiB