Package: TargetDecoy Version: 1.13.0 Command: /Library/Frameworks/R.framework/Resources/bin/R CMD INSTALL TargetDecoy StartedAt: 2025-02-12 15:42:34 -0500 (Wed, 12 Feb 2025) EndedAt: 2025-02-12 15:42:47 -0500 (Wed, 12 Feb 2025) EllapsedTime: 13.3 seconds RetCode: 0 Status: OK