Package: TargetDecoy Version: 1.13.0 Command: /home/biocbuild/bbs-3.21-bioc/R/bin/R CMD check --install=check:TargetDecoy.install-out.txt --library=/home/biocbuild/bbs-3.21-bioc/R/site-library --timings TargetDecoy_1.13.0.tar.gz StartedAt: 2025-02-10 03:16:18 -0500 (Mon, 10 Feb 2025) EndedAt: 2025-02-10 03:17:50 -0500 (Mon, 10 Feb 2025) EllapsedTime: 91.2 seconds RetCode: 0 Status: OK CheckDir: TargetDecoy.Rcheck Warnings: 0