Package: TissueEnrich Version: 1.27.0 Command: /Library/Frameworks/R.framework/Resources/bin/R CMD check --install=check:TissueEnrich.install-out.txt --library=/Library/Frameworks/R.framework/Resources/library --no-vignettes --timings TissueEnrich_1.27.0.tar.gz StartedAt: 2025-02-04 21:47:44 -0500 (Tue, 04 Feb 2025) EndedAt: 2025-02-04 21:49:02 -0500 (Tue, 04 Feb 2025) EllapsedTime: 78.0 seconds RetCode: 0 Status: OK CheckDir: TissueEnrich.Rcheck Warnings: 0