Package: TissueEnrich Version: 1.27.0 Command: /Library/Frameworks/R.framework/Resources/bin/R CMD INSTALL TissueEnrich StartedAt: 2025-02-04 15:10:02 -0500 (Tue, 04 Feb 2025) EndedAt: 2025-02-04 15:10:13 -0500 (Tue, 04 Feb 2025) EllapsedTime: 11.2 seconds RetCode: 0 Status: OK