Package: TissueEnrich Version: 1.27.0 Command: /Library/Frameworks/R.framework/Resources/bin/R CMD check --install=check:TissueEnrich.install-out.txt --library=/Library/Frameworks/R.framework/Resources/library --no-vignettes --timings TissueEnrich_1.27.0.tar.gz StartedAt: 2025-02-10 00:08:08 -0500 (Mon, 10 Feb 2025) EndedAt: 2025-02-10 00:12:08 -0500 (Mon, 10 Feb 2025) EllapsedTime: 240.3 seconds RetCode: 0 Status: OK CheckDir: TissueEnrich.Rcheck Warnings: 0