Package: TissueEnrich Version: 1.27.0 Command: /home/biocbuild/bbs-3.21-bioc/R/bin/R CMD build --keep-empty-dirs --no-resave-data TissueEnrich StartedAt: 2025-02-04 19:34:31 -0500 (Tue, 04 Feb 2025) EndedAt: 2025-02-04 19:35:19 -0500 (Tue, 04 Feb 2025) EllapsedTime: 48.1 seconds RetCode: 0 Status: OK PackageFile: TissueEnrich_1.27.0.tar.gz PackageFileSize: 3.695 MiB