Package: TissueEnrich Version: 1.27.0 Command: rm -rf TissueEnrich.buildbin-libdir && mkdir TissueEnrich.buildbin-libdir && E:\biocbuild\bbs-3.21-bioc\R\bin\R.exe CMD INSTALL --build --library=TissueEnrich.buildbin-libdir TissueEnrich_1.27.0.tar.gz StartedAt: 2025-02-10 08:52:49 -0500 (Mon, 10 Feb 2025) EndedAt: 2025-02-10 08:53:24 -0500 (Mon, 10 Feb 2025) EllapsedTime: 34.4 seconds RetCode: 0 Status: OK PackageFile: TissueEnrich_1.27.0.zip PackageFileSize: 3.363 MiB