Package: TissueEnrich Version: 1.27.0 Command: chmod a+r TissueEnrich -R && E:\biocbuild\bbs-3.21-bioc\R\bin\R.exe CMD build --keep-empty-dirs --no-resave-data TissueEnrich StartedAt: 2025-02-09 22:06:43 -0500 (Sun, 09 Feb 2025) EndedAt: 2025-02-09 22:07:50 -0500 (Sun, 09 Feb 2025) EllapsedTime: 66.5 seconds RetCode: 0 Status: OK PackageFile: TissueEnrich_1.27.0.tar.gz PackageFileSize: 3.338 MiB