Package: TitanCNA Version: 1.45.0 Command: /Library/Frameworks/R.framework/Resources/bin/R CMD build --keep-empty-dirs --no-resave-data TitanCNA StartedAt: 2025-02-10 18:35:56 -0500 (Mon, 10 Feb 2025) EndedAt: 2025-02-10 18:37:17 -0500 (Mon, 10 Feb 2025) EllapsedTime: 81.1 seconds RetCode: 1 Status: ERROR PackageFile: None PackageFileSize: NA